BEGIN:VCALENDAR
VERSION:2.0
PRODID:-//Plone.org//NONSGML plone.app.event//EN
X-WR-TIMEZONE:Europe/Berlin
BEGIN:VEVENT
SUMMARY:Opening Keynote Lecture by Arjun Appadurai: Traces of the Future
DTSTART;TZID=Europe/Berlin:20210420T140000
DTEND;TZID=Europe/Berlin:20210420T160000
DTSTAMP:20260420T093916Z
UID:6d6b4c5adf3b4a9682c282ac8a92c603@www.uni-marburg.de
ATTENDEE;CN="Arjun Appadurai";ROLE=REQ-PARTICIPANT:Arjun Appadurai
CREATED:20210414T150621Z
DESCRIPTION:https://www.uni-marburg.de/de/fb03/ekw/aktuelles/termine/trace
 s-of-the-future\n
LAST-MODIFIED:20240524T060949Z
LOCATION:Zoom
URL:https://www.uni-marburg.de/de/fb03/ekw/aktuelles/termine/traces-of-the
 -future
END:VEVENT
BEGIN:VTIMEZONE
TZID:Europe/Berlin
X-LIC-LOCATION:Europe/Berlin
BEGIN:DAYLIGHT
DTSTART:20210328T030000
TZNAME:CEST
TZOFFSETFROM:+0100
TZOFFSETTO:+0200
END:DAYLIGHT
END:VTIMEZONE
END:VCALENDAR
