BEGIN:VCALENDAR
VERSION:2.0
PRODID:-//Plone.org//NONSGML plone.app.event//EN
X-WR-TIMEZONE:Europe/Berlin
BEGIN:VEVENT
SUMMARY:Troubling Gender: Neue geschlechterpolitische Turbulenzen in Europ
 a
DTSTART;VALUE=DATE:20210408
DTEND;VALUE=DATE:20210411
DTSTAMP:20260426T034549Z
UID:fd738260df664399a889ff58931dbf89@www.uni-marburg.de
CREATED:20210304T114559Z
DESCRIPTION:https://www.uni-marburg.de/de/fb03/ekw/aktuelles/termine/troub
 ling-gender-neue-geschlechterpolitische-turbulenzen-in-europa\n
LAST-MODIFIED:20240524T060948Z
LOCATION:Online
URL:https://www.uni-marburg.de/de/fb03/ekw/aktuelles/termine/troubling-gen
 der-neue-geschlechterpolitische-turbulenzen-in-europa
END:VEVENT
END:VCALENDAR
