BEGIN:VCALENDAR
VERSION:2.0
PRODID:-//Plone.org//NONSGML plone.app.event//EN
X-WR-TIMEZONE:Europe/Berlin
BEGIN:VEVENT
SUMMARY:Unbequeme Mobilitäten: Stechmücken\, Menschen und sich verschieb
 ende Multispecies Encounters - Ulrike Beisel (Berlin)
DTSTART;TZID=Europe/Berlin:20220623T121500
DTSTAMP:20260421T045739Z
UID:cc2fef0b424049fb917630316ef80e75@www.uni-marburg.de
ATTENDEE;CN="Ulrike Beisel (Berlin)";ROLE=REQ-PARTICIPANT:Ulrike Beisel (B
 erlin)
CREATED:20220429T142542Z
DESCRIPTION:https://www.uni-marburg.de/de/fb03/ekw/aktuelles/termine/unbeq
 ueme-mobilitaeten-beisel\n
LAST-MODIFIED:20240524T060952Z
LOCATION:Zoom
URL:https://www.uni-marburg.de/de/fb03/ekw/aktuelles/termine/unbequeme-mob
 ilitaeten-beisel
END:VEVENT
BEGIN:VTIMEZONE
TZID:Europe/Berlin
X-LIC-LOCATION:Europe/Berlin
BEGIN:DAYLIGHT
DTSTART:20220327T030000
TZNAME:CEST
TZOFFSETFROM:+0100
TZOFFSETTO:+0200
END:DAYLIGHT
END:VTIMEZONE
END:VCALENDAR
