BEGIN:VCALENDAR
VERSION:2.0
PRODID:-//Plone.org//NONSGML plone.app.event//EN
X-WR-TIMEZONE:Europe/Berlin
BEGIN:VEVENT
SUMMARY:Unter Polizist:innen. (Zu)gänge und (Um)wege einer ethnografische
 n Forschung über Wut im Feld der Polizei
DTSTART;TZID=Europe/Berlin:20211103T180000
DTEND;TZID=Europe/Berlin:20211103T200000
DTSTAMP:20260425T224651Z
UID:3dfe58d516624676b0d83a3a985abe34@www.uni-marburg.de
ATTENDEE;CN="Stephanie Schmidt (Universität Innsbruck)";ROLE=REQ-PARTICIP
 ANT:Stephanie Schmidt (Universität Innsbruck)
CREATED:20211011T054527Z
DESCRIPTION:https://www.uni-marburg.de/de/fb03/ekw/aktuelles/termine/unter
 -polizist-innen-zu-gaenge-und-um-wege-einer-ethnografischen-forschung-uebe
 r-wut-im-feld-der-polizei\n
LAST-MODIFIED:20240524T060949Z
LOCATION:Zoom
URL:https://www.uni-marburg.de/de/fb03/ekw/aktuelles/termine/unter-polizis
 t-innen-zu-gaenge-und-um-wege-einer-ethnografischen-forschung-ueber-wut-im
 -feld-der-polizei
END:VEVENT
BEGIN:VTIMEZONE
TZID:Europe/Berlin
X-LIC-LOCATION:Europe/Berlin
BEGIN:STANDARD
DTSTART:20211031T020000
TZNAME:CET
TZOFFSETFROM:+0200
TZOFFSETTO:+0100
END:STANDARD
END:VTIMEZONE
END:VCALENDAR
