BEGIN:VCALENDAR
VERSION:2.0
PRODID:-//Plone.org//NONSGML plone.app.event//EN
X-WR-TIMEZONE:Europe/Berlin
BEGIN:VEVENT
SUMMARY:Marburg800 weiter denken: Vermittelstädterung?! Lebensqualität j
 enseits der Metropolen - Prof. Dr. Brigitta Schmidt-Lauber
DTSTART;TZID=Europe/Berlin:20220504T190000
DTSTAMP:20260421T121355Z
UID:c9b95c5cb48d43d888c167fc37c8e357@www.uni-marburg.de
ATTENDEE;CN="Prof. Dr. Brigitta Schmidt-Lauber";ROLE=REQ-PARTICIPANT:Prof.
  Dr. Brigitta Schmidt-Lauber
CREATED:20220412T133738Z
DESCRIPTION:https://www.uni-marburg.de/de/fb03/ekw/aktuelles/termine/vermi
 ttelstaedterung-lebensqualitaet-jenseits-der-metropolen\n
LAST-MODIFIED:20240524T060951Z
LOCATION:Erwin-Piscator-Haus (Stadthalle Marburg)
URL:https://www.uni-marburg.de/de/fb03/ekw/aktuelles/termine/vermittelstae
 dterung-lebensqualitaet-jenseits-der-metropolen
END:VEVENT
BEGIN:VTIMEZONE
TZID:Europe/Berlin
X-LIC-LOCATION:Europe/Berlin
BEGIN:DAYLIGHT
DTSTART:20220327T030000
TZNAME:CEST
TZOFFSETFROM:+0100
TZOFFSETTO:+0200
END:DAYLIGHT
END:VTIMEZONE
END:VCALENDAR
