BEGIN:VCALENDAR
VERSION:2.0
PRODID:-//Plone.org//NONSGML plone.app.event//EN
X-WR-TIMEZONE:Europe/Berlin
BEGIN:VEVENT
SUMMARY:Von „Kaffeerost“ und „Apfelwicklern“. Kulturwissenschaftli
 che Perspektiven auf Pflanzenkrankheiten in ländlichen Ökonomien - Arnik
 a Peselmann (Würzburg)
DTSTART;TZID=Europe/Berlin:20220707T121500
DTSTAMP:20260421T084805Z
UID:ef423a66a6dd407ba2c98b545ca037ea@www.uni-marburg.de
ATTENDEE;CN="Arnika Peselmann (Würzburg)";ROLE=REQ-PARTICIPANT:Arnika Pes
 elmann (Würzburg)
CREATED:20220429T142542Z
DESCRIPTION:https://www.uni-marburg.de/de/fb03/ekw/aktuelles/termine/von-k
 affeerost-und-apfelwicklern-peselmann\n
LAST-MODIFIED:20240524T060952Z
LOCATION:Zoom
URL:https://www.uni-marburg.de/de/fb03/ekw/aktuelles/termine/von-kaffeeros
 t-und-apfelwicklern-peselmann
END:VEVENT
BEGIN:VTIMEZONE
TZID:Europe/Berlin
X-LIC-LOCATION:Europe/Berlin
BEGIN:DAYLIGHT
DTSTART:20220327T030000
TZNAME:CEST
TZOFFSETFROM:+0100
TZOFFSETTO:+0200
END:DAYLIGHT
END:VTIMEZONE
END:VCALENDAR
