BEGIN:VCALENDAR
VERSION:2.0
PRODID:-//Plone.org//NONSGML plone.app.event//EN
X-WR-TIMEZONE:Europe/Berlin
BEGIN:VEVENT
SUMMARY:Vorlesungsbeginn Wintersemester 2024/25
DTSTART;VALUE=DATE:20241014
DTEND;VALUE=DATE:20241015
DTSTAMP:20260420T193104Z
UID:2c619ca0d9c845c68e1087420c69ed4e@www.uni-marburg.de
CREATED:20241007T074127Z
DESCRIPTION:https://www.uni-marburg.de/de/fb03/ekw/aktuelles/termine/vorle
 sungsbeginn-wintersemester-2024-25\nStart der Veranstaltungen
LAST-MODIFIED:20241007T091528Z
LOCATION:Deutschhausstraße 3\, 35037 Marburg
URL:https://www.uni-marburg.de/de/fb03/ekw/aktuelles/termine/vorlesungsbeg
 inn-wintersemester-2024-25
END:VEVENT
END:VCALENDAR
