BEGIN:VCALENDAR
VERSION:2.0
PRODID:-//Plone.org//NONSGML plone.app.event//EN
X-WR-TIMEZONE:Europe/Berlin
BEGIN:VEVENT
SUMMARY:Wasser. Salon über das wichtigste Lebenselixier zur Wiederaufnahm
 e von Rusalka mit Prof. Dr. Ina Dietzsch
DTSTART;TZID=Europe/Berlin:20230109T193000
DTSTAMP:20260426T002140Z
UID:a9bf8a71725c437e921a7432cca85bb8@www.uni-marburg.de
ATTENDEE;CN="Prof. Dr. Ina Dietzsch";ROLE=REQ-PARTICIPANT:Prof. Dr. Ina Di
 etzsch
CREATED:20221128T121238Z
DESCRIPTION:https://www.uni-marburg.de/de/fb03/ekw/aktuelles/termine/wasse
 r-salon-ueber-das-wichtigste-lebenselixier-zur-wiederaufnahme-von-rusalka\
 n
LAST-MODIFIED:20240524T060952Z
LOCATION:Komische Oper Berlin
URL:https://www.uni-marburg.de/de/fb03/ekw/aktuelles/termine/wasser-salon-
 ueber-das-wichtigste-lebenselixier-zur-wiederaufnahme-von-rusalka
END:VEVENT
BEGIN:VTIMEZONE
TZID:Europe/Berlin
X-LIC-LOCATION:Europe/Berlin
BEGIN:STANDARD
DTSTART:20221030T020000
TZNAME:CET
TZOFFSETFROM:+0200
TZOFFSETTO:+0100
END:STANDARD
END:VTIMEZONE
END:VCALENDAR
