BEGIN:VCALENDAR
VERSION:2.0
PRODID:-//Plone.org//NONSGML plone.app.event//EN
X-WR-TIMEZONE:Europe/Berlin
BEGIN:VEVENT
SUMMARY:What’s "Community" Anyway? Uses\, Misuses and Alternatives for t
 he term "Community" in Museum Work
DTSTART;TZID=Europe/Berlin:20210520T180000
DTEND;TZID=Europe/Berlin:20210520T200000
DTSTAMP:20260421T192202Z
UID:b07b462da6544d6db187305146c946aa@www.uni-marburg.de
CREATED:20210512T095353Z
DESCRIPTION:https://www.uni-marburg.de/de/fb03/ekw/aktuelles/termine/what2
 019s-community-anyway-uses-misuses-and-alternatives-for-the-term-community
 -in-museum-work\n
LAST-MODIFIED:20240524T060949Z
LOCATION:Zoom
URL:https://www.uni-marburg.de/de/fb03/ekw/aktuelles/termine/what2019s-com
 munity-anyway-uses-misuses-and-alternatives-for-the-term-community-in-muse
 um-work
END:VEVENT
BEGIN:VTIMEZONE
TZID:Europe/Berlin
X-LIC-LOCATION:Europe/Berlin
BEGIN:DAYLIGHT
DTSTART:20210328T030000
TZNAME:CEST
TZOFFSETFROM:+0100
TZOFFSETTO:+0200
END:DAYLIGHT
END:VTIMEZONE
END:VCALENDAR
