BEGIN:VCALENDAR
VERSION:2.0
PRODID:-//Plone.org//NONSGML plone.app.event//EN
X-WR-TIMEZONE:Europe/Berlin
BEGIN:VEVENT
SUMMARY:Zukünfte gestalten - Forschungskolloquium „Zukünfte. Felder\, 
 Perspektiven\, Aushandlungen“
DTSTART;TZID=Europe/Berlin:20220201T160000
DTEND;TZID=Europe/Berlin:20220201T180000
DTSTAMP:20260426T053043Z
UID:fe78c0b213634fac995223bc9d10c9fc@www.uni-marburg.de
ATTENDEE;CN="Master-Studierende des Lernforschungsprojekts ALPS (Institut 
 für EKWEE/LMU";ROLE=REQ-PARTICIPANT:Master-Studierende des Lernforschungs
 projekts ALPS (Institut für EKWEE/LMU
ATTENDEE;CN=München);ROLE=REQ-PARTICIPANT:München)
CREATED:20211026T070657Z
DESCRIPTION:https://www.uni-marburg.de/de/fb03/ekw/aktuelles/termine/zukue
 nfte-gestalten-forschungskolloquium-zukuenfte-felder-perspektiven-aushandl
 ungen\n
LAST-MODIFIED:20240524T060950Z
LOCATION:Zoom
URL:https://www.uni-marburg.de/de/fb03/ekw/aktuelles/termine/zukuenfte-ges
 talten-forschungskolloquium-zukuenfte-felder-perspektiven-aushandlungen
END:VEVENT
BEGIN:VTIMEZONE
TZID:Europe/Berlin
X-LIC-LOCATION:Europe/Berlin
BEGIN:STANDARD
DTSTART:20211031T020000
TZNAME:CET
TZOFFSETFROM:+0200
TZOFFSETTO:+0100
END:STANDARD
END:VTIMEZONE
END:VCALENDAR
