BEGIN:VCALENDAR
VERSION:2.0
PRODID:-//Plone.org//NONSGML plone.app.event//EN
X-WR-TIMEZONE:Europe/Berlin
BEGIN:VEVENT
SUMMARY:"Zum kulturellen Gedächtnis deutscher Universitätsstädte" - Vor
 trag von Prof. Dr. Marita Metz-Becker
DTSTART;TZID=Europe/Berlin:20230511T190000
DTSTAMP:20260425T154118Z
UID:96c5f9513de34e1788a67a4dfb6949c1@www.uni-marburg.de
CREATED:20230509T074415Z
DESCRIPTION:https://www.uni-marburg.de/de/fb03/ekw/aktuelles/termine/zum-k
 ulturellen-gedaechtnis-deutscher-universitaetsstaedte-vortrag-von-prof-dr-
 marita-metz-becker\n
LAST-MODIFIED:20240524T060952Z
LOCATION:Historischer Rathaussaal
URL:https://www.uni-marburg.de/de/fb03/ekw/aktuelles/termine/zum-kulturell
 en-gedaechtnis-deutscher-universitaetsstaedte-vortrag-von-prof-dr-marita-m
 etz-becker
END:VEVENT
BEGIN:VTIMEZONE
TZID:Europe/Berlin
X-LIC-LOCATION:Europe/Berlin
BEGIN:DAYLIGHT
DTSTART:20230326T030000
TZNAME:CEST
TZOFFSETFROM:+0100
TZOFFSETTO:+0200
END:DAYLIGHT
END:VTIMEZONE
END:VCALENDAR
