BEGIN:VCALENDAR
VERSION:2.0
PRODID:-//Plone.org//NONSGML plone.app.event//EN
X-WR-TIMEZONE:Europe/Berlin
BEGIN:VEVENT
SUMMARY:Achtung: Sensible Objekte
DTSTART;TZID=Europe/Berlin:20260718T170000
DTEND;TZID=Europe/Berlin:20260718T180000
DTSTAMP:20260425T022620Z
UID:639fb58b68024ef68ec5384de744f2b5@www.uni-marburg.de
ATTENDEE;CN="Vanessa Obermair M.A. und Dr. Susanne Rodemeier";ROLE=REQ-PAR
 TICIPANT:Vanessa Obermair M.A. und Dr. Susanne Rodemeier
CATEGORIES:()
CREATED:20260216T151215Z
DESCRIPTION:https://www.uni-marburg.de/de/fb03/ivk/fachgebiete/religionswi
 ssenschaft/aktuelles-rw/termine-rw/20/achtung-sensible-objekte\nFührung
LAST-MODIFIED:20260216T151251Z
LOCATION:Landgraf-Philipp-Str. 4\, 35037 Marburg
URL:https://www.uni-marburg.de/de/fb03/ivk/fachgebiete/religionswissenscha
 ft/aktuelles-rw/termine-rw/20/achtung-sensible-objekte
END:VEVENT
BEGIN:VTIMEZONE
TZID:Europe/Berlin
X-LIC-LOCATION:Europe/Berlin
BEGIN:DAYLIGHT
DTSTART:20260329T030000
TZNAME:CEST
TZOFFSETFROM:+0100
TZOFFSETTO:+0200
END:DAYLIGHT
END:VTIMEZONE
END:VCALENDAR
