BEGIN:VCALENDAR
VERSION:2.0
PRODID:-//Plone.org//NONSGML plone.app.event//EN
X-WR-TIMEZONE:Europe/Berlin
BEGIN:VEVENT
SUMMARY:Interdisziplinäre Religionsforschung im Blick: 15 Jahre ZIR
DTSTART;TZID=Europe/Berlin:20260707T183000
DTEND;TZID=Europe/Berlin:20260707T200000
DTSTAMP:20260426T034259Z
UID:97ce547941c340c584396103acb111ec@www.uni-marburg.de
ATTENDEE;CN="Prof. Dr. Edith Franke und Isabel Jakob M.A.";ROLE=REQ-PARTIC
 IPANT:Prof. Dr. Edith Franke und Isabel Jakob M.A.
CREATED:20260216T150809Z
DESCRIPTION:https://www.uni-marburg.de/de/fb03/ivk/fachgebiete/religionswi
 ssenschaft/aktuelles-rw/termine-rw/20/interdisziplinaere-religionsforschun
 g-im-blick-15-jahre-zir\nein Abschlussabend
LAST-MODIFIED:20260216T150842Z
LOCATION:Landgraf-Philipp-Str. 4\, 35037 Marburg
URL:https://www.uni-marburg.de/de/fb03/ivk/fachgebiete/religionswissenscha
 ft/aktuelles-rw/termine-rw/20/interdisziplinaere-religionsforschung-im-bli
 ck-15-jahre-zir
END:VEVENT
BEGIN:VTIMEZONE
TZID:Europe/Berlin
X-LIC-LOCATION:Europe/Berlin
BEGIN:DAYLIGHT
DTSTART:20260329T030000
TZNAME:CEST
TZOFFSETFROM:+0100
TZOFFSETTO:+0200
END:DAYLIGHT
END:VTIMEZONE
END:VCALENDAR
