BEGIN:VCALENDAR
VERSION:2.0
PRODID:-//Plone.org//NONSGML plone.app.event//EN
X-WR-TIMEZONE:Europe/Berlin
BEGIN:VEVENT
SUMMARY:Kulturraub im Krieg. Verschlungene Wege und Hürden der Restitutio
 n
DTSTART;TZID=Europe/Berlin:20260609T183000
DTEND;TZID=Europe/Berlin:20260609T193000
DTSTAMP:20260425T225311Z
UID:cc71e636512748789b26a2d460f0c932@www.uni-marburg.de
ATTENDEE;CN="Prof. Dr. Wolfgang Eichwede (Bremen/Berlin)";ROLE=REQ-PARTICI
 PANT:Prof. Dr. Wolfgang Eichwede (Bremen/Berlin)
CREATED:20260216T150149Z
DESCRIPTION:https://www.uni-marburg.de/de/fb03/ivk/fachgebiete/religionswi
 ssenschaft/aktuelles-rw/termine-rw/20/kulturraub-im-krieg-verschlungene-we
 ge-und-huerden-der-restitution\nVortrag
LAST-MODIFIED:20260216T150211Z
LOCATION:Landgraf-Philipp-Str. 4\, 35037 Marburg
URL:https://www.uni-marburg.de/de/fb03/ivk/fachgebiete/religionswissenscha
 ft/aktuelles-rw/termine-rw/20/kulturraub-im-krieg-verschlungene-wege-und-h
 uerden-der-restitution
END:VEVENT
BEGIN:VTIMEZONE
TZID:Europe/Berlin
X-LIC-LOCATION:Europe/Berlin
BEGIN:DAYLIGHT
DTSTART:20260329T030000
TZNAME:CEST
TZOFFSETFROM:+0100
TZOFFSETTO:+0200
END:DAYLIGHT
END:VTIMEZONE
END:VCALENDAR
