BEGIN:VCALENDAR
VERSION:2.0
PRODID:-//Plone.org//NONSGML plone.app.event//EN
X-WR-TIMEZONE:Europe/Berlin
BEGIN:VEVENT
SUMMARY:Sinn und Sinnlichkeit - Religiöse Materialität und Sensuale Erfa
 hrung
DTSTART;TZID=Europe/Berlin:20260514T110000
DTEND;TZID=Europe/Berlin:20260517T150000
DTSTAMP:20260425T231113Z
UID:8d7d3d102bd04824a4b0cc432dd5a4a2@www.uni-marburg.de
CREATED:20260216T144105Z
DESCRIPTION:https://www.uni-marburg.de/de/fb03/ivk/fachgebiete/religionswi
 ssenschaft/aktuelles-rw/termine-rw/20/sinn-und-sinnlichkeit-religioese-mat
 erialitaet-und-sensuale-erfahrung\n31. Studierenden-Symposium der Religion
 swissenschaft
LAST-MODIFIED:20260216T144123Z
LOCATION:Marburg
URL:https://www.uni-marburg.de/de/fb03/ivk/fachgebiete/religionswissenscha
 ft/aktuelles-rw/termine-rw/20/sinn-und-sinnlichkeit-religioese-materialita
 et-und-sensuale-erfahrung
END:VEVENT
BEGIN:VTIMEZONE
TZID:Europe/Berlin
X-LIC-LOCATION:Europe/Berlin
BEGIN:DAYLIGHT
DTSTART:20260329T030000
TZNAME:CEST
TZOFFSETFROM:+0100
TZOFFSETTO:+0200
END:DAYLIGHT
END:VTIMEZONE
END:VCALENDAR
