BEGIN:VCALENDAR
VERSION:2.0
PRODID:-//Plone.org//NONSGML plone.app.event//EN
X-WR-TIMEZONE:Europe/Berlin
BEGIN:VEVENT
SUMMARY:Stärke im Glauben: Muslimische Frauen im Kampf gegen Flussverschm
 utzung
DTSTART;TZID=Europe/Berlin:20260520T180000
DTEND;TZID=Europe/Berlin:20260520T191500
DTSTAMP:20260425T214835Z
UID:08e43251969944e2b1f94f3830b8e78b@www.uni-marburg.de
ATTENDEE;CN="Dr. Dewi Candraningrum (Surakarta/Freiburg)";ROLE=REQ-PARTICI
 PANT:Dr. Dewi Candraningrum (Surakarta/Freiburg)
CREATED:20260216T145858Z
DESCRIPTION:https://www.uni-marburg.de/de/fb03/ivk/fachgebiete/religionswi
 ssenschaft/aktuelles-rw/termine-rw/20/staerke-im-glauben-muslimische-fraue
 n-im-kampf-gegen-flussverschmutzung\nVortrag
LAST-MODIFIED:20260216T145944Z
LOCATION:Landgraf-Philipp-Str. 4\, 35037 Marburg
URL:https://www.uni-marburg.de/de/fb03/ivk/fachgebiete/religionswissenscha
 ft/aktuelles-rw/termine-rw/20/staerke-im-glauben-muslimische-frauen-im-kam
 pf-gegen-flussverschmutzung
END:VEVENT
BEGIN:VTIMEZONE
TZID:Europe/Berlin
X-LIC-LOCATION:Europe/Berlin
BEGIN:DAYLIGHT
DTSTART:20260329T030000
TZNAME:CEST
TZOFFSETFROM:+0100
TZOFFSETTO:+0200
END:DAYLIGHT
END:VTIMEZONE
END:VCALENDAR
