BEGIN:VCALENDAR
VERSION:2.0
PRODID:-//Plone.org//NONSGML plone.app.event//EN
X-WR-TIMEZONE:Europe/Berlin
BEGIN:VEVENT
SUMMARY:The (im)possibility of Interfaith Dialogue in the Post-truth Age
DTSTART;TZID=Europe/Berlin:20260701T180000
DTEND;TZID=Europe/Berlin:20260701T191500
DTSTAMP:20260425T231629Z
UID:3caab6ad3b7b41818b6a4fe251357090@www.uni-marburg.de
ATTENDEE;CN="Prof. Dr. Asfa Widiyanto (Jakarta/Marburg)";ROLE=REQ-PARTICIP
 ANT:Prof. Dr. Asfa Widiyanto (Jakarta/Marburg)
CATEGORIES:()
CREATED:20260216T150426Z
DESCRIPTION:https://www.uni-marburg.de/de/fb03/ivk/fachgebiete/religionswi
 ssenschaft/aktuelles-rw/termine-rw/20/the-im-possibility-of-interfaith-dia
 logue-in-the-post-truth-age\nVortrag
LAST-MODIFIED:20260218T075316Z
LOCATION:Landgraf-Philipp-Str. 4\, 35037 Marburg
URL:https://www.uni-marburg.de/de/fb03/ivk/fachgebiete/religionswissenscha
 ft/aktuelles-rw/termine-rw/20/the-im-possibility-of-interfaith-dialogue-in
 -the-post-truth-age
END:VEVENT
BEGIN:VTIMEZONE
TZID:Europe/Berlin
X-LIC-LOCATION:Europe/Berlin
BEGIN:DAYLIGHT
DTSTART:20260329T030000
TZNAME:CEST
TZOFFSETFROM:+0100
TZOFFSETTO:+0200
END:DAYLIGHT
END:VTIMEZONE
END:VCALENDAR
