BEGIN:VCALENDAR
VERSION:2.0
PRODID:-//Plone.org//NONSGML plone.app.event//EN
X-WR-TIMEZONE:Europe/Berlin
BEGIN:VEVENT
SUMMARY:Der Jüdischer Frauenbund in Deutschland von 1904 - 1938
DTSTART;TZID=Europe/Berlin:20230524T180000
DTEND;TZID=Europe/Berlin:20230524T193000
DTSTAMP:20260426T001427Z
UID:40234398f7ea4fa6b8adade1a0f5b10d@www.uni-marburg.de
ATTENDEE;CN="Marlies Segschneider M.A.";ROLE=REQ-PARTICIPANT:Marlies Segsc
 hneider M.A.
CREATED:20230113T101726Z
DESCRIPTION:https://www.uni-marburg.de/de/fb03/ivk/fachgebiete/religionswi
 ssenschaft/aktuelles-rw/termine-rw/der-juedischer-frauenbund-in-deutschlan
 d-von-1904-1938\nVortrag aus der Reihe "Religion am Mittwoch"
LAST-MODIFIED:20230117T082552Z
LOCATION:Philipps-Universität Marburg\, Religionskundliche Sammlung\, Lan
 dgraf-Philipp-Str. 4\, 35037 Marburg
URL:https://www.uni-marburg.de/de/fb03/ivk/fachgebiete/religionswissenscha
 ft/aktuelles-rw/termine-rw/der-juedischer-frauenbund-in-deutschland-von-19
 04-1938
END:VEVENT
BEGIN:VTIMEZONE
TZID:Europe/Berlin
X-LIC-LOCATION:Europe/Berlin
BEGIN:DAYLIGHT
DTSTART:20230326T030000
TZNAME:CEST
TZOFFSETFROM:+0100
TZOFFSETTO:+0200
END:DAYLIGHT
END:VTIMEZONE
END:VCALENDAR
