BEGIN:VCALENDAR
VERSION:2.0
PRODID:-//Plone.org//NONSGML plone.app.event//EN
X-WR-TIMEZONE:Europe/Berlin
BEGIN:VEVENT
SUMMARY:Fachbereichsbibliothek Religionswissenschaft bleibt vom 16.Juni bi
 s zum 17.Juni 2022 geschlossen
DTSTART;VALUE=DATE:20220616
DTEND;VALUE=DATE:20220618
DTSTAMP:20260425T235732Z
UID:274e3f40c5b9426d94e72fb82308bc2a@www.uni-marburg.de
CREATED:20220614T084416Z
DESCRIPTION:https://www.uni-marburg.de/de/fb03/ivk/fachgebiete/religionswi
 ssenschaft/aktuelles-rw/termine-rw/fachbereichsbibliothek-religionswissens
 chaft-vom-16-06-17-06-geschlossen\n
LAST-MODIFIED:20220614T085622Z
LOCATION:Fachgebiet Religionswissenschaft
URL:https://www.uni-marburg.de/de/fb03/ivk/fachgebiete/religionswissenscha
 ft/aktuelles-rw/termine-rw/fachbereichsbibliothek-religionswissenschaft-vo
 m-16-06-17-06-geschlossen
END:VEVENT
END:VCALENDAR
