BEGIN:VCALENDAR
VERSION:2.0
PRODID:-//Plone.org//NONSGML plone.app.event//EN
X-WR-TIMEZONE:Europe/Berlin
BEGIN:VEVENT
SUMMARY:Jüdisches Leben in Marburg. Erinnern schafft Identität
DTSTART;TZID=Europe/Berlin:20220524T180000
DTEND;TZID=Europe/Berlin:20220524T200000
DTSTAMP:20260426T032008Z
UID:1a0c88e37dad429e884726a13f57f403@www.uni-marburg.de
CREATED:20220321T094337Z
DESCRIPTION:https://www.uni-marburg.de/de/fb03/ivk/fachgebiete/religionswi
 ssenschaft/aktuelles-rw/termine-rw/juedisches-leben-in-marburg-erinnern-sc
 hafft-identitaet\nAusstellungseröffnung
LAST-MODIFIED:20220321T095033Z
LOCATION:Rathaus der Stadt Marburg\, Markt 2\, 35037 Marburg
URL:https://www.uni-marburg.de/de/fb03/ivk/fachgebiete/religionswissenscha
 ft/aktuelles-rw/termine-rw/juedisches-leben-in-marburg-erinnern-schafft-id
 entitaet
END:VEVENT
BEGIN:VTIMEZONE
TZID:Europe/Berlin
X-LIC-LOCATION:Europe/Berlin
BEGIN:DAYLIGHT
DTSTART:20220327T030000
TZNAME:CEST
TZOFFSETFROM:+0100
TZOFFSETTO:+0200
END:DAYLIGHT
END:VTIMEZONE
END:VCALENDAR
