BEGIN:VCALENDAR
VERSION:2.0
PRODID:-//Plone.org//NONSGML plone.app.event//EN
X-WR-TIMEZONE:Europe/Berlin
BEGIN:VEVENT
SUMMARY:Kistenweise Religion. Wie Osho Times\, Wachtturm und Co. in die  U
 ni-Bibliothek eingezogen sind
DTSTART;TZID=Europe/Berlin:20230426T180000
DTEND;TZID=Europe/Berlin:20230426T193000
DTSTAMP:20260426T001921Z
UID:42d2cede06c54fca9a90564c6d188f51@www.uni-marburg.de
ATTENDEE;CN="Nikolas Magin (Tübingen) und Renate Stegerhoff (UB Marburg)"
 ;ROLE=REQ-PARTICIPANT:Nikolas Magin (Tübingen) und Renate Stegerhoff (UB 
 Marburg)
CREATED:20230116T141141Z
DESCRIPTION:https://www.uni-marburg.de/de/fb03/ivk/fachgebiete/religionswi
 ssenschaft/aktuelles-rw/termine-rw/kistenweise-religion-die-uebernahme-des
 -remid-archivs-in-die-ub-marburg\nVortrag aus der Reihe "Religion am Mittw
 och"
LAST-MODIFIED:20230216T111149Z
LOCATION:Philipps-Universität Marburg\, Religionskundliche Sammlung\, Lan
 dgraf-Philipp-Str. 4\, 35037 Marburg
URL:https://www.uni-marburg.de/de/fb03/ivk/fachgebiete/religionswissenscha
 ft/aktuelles-rw/termine-rw/kistenweise-religion-die-uebernahme-des-remid-a
 rchivs-in-die-ub-marburg
END:VEVENT
BEGIN:VTIMEZONE
TZID:Europe/Berlin
X-LIC-LOCATION:Europe/Berlin
BEGIN:DAYLIGHT
DTSTART:20230326T030000
TZNAME:CEST
TZOFFSETFROM:+0100
TZOFFSETTO:+0200
END:DAYLIGHT
END:VTIMEZONE
END:VCALENDAR
