BEGIN:VCALENDAR
VERSION:2.0
PRODID:-//Plone.org//NONSGML plone.app.event//EN
X-WR-TIMEZONE:Europe/Berlin
BEGIN:VEVENT
SUMMARY:Säkularisierung in der Islamischen Republik? - Aktuelle religiös
 e Entwicklungen im Iran
DTSTART;TZID=Europe/Berlin:20231116T190000
DTEND;TZID=Europe/Berlin:20231116T200000
DTSTAMP:20260426T000122Z
UID:662076c03b274b1e99c94f3f19509e3b@www.uni-marburg.de
ATTENDEE;CN="Dr. Armin Eschraghi";ROLE=REQ-PARTICIPANT:Dr. Armin Eschraghi
CREATED:20231018T134741Z
DESCRIPTION:https://www.uni-marburg.de/de/fb03/ivk/fachgebiete/religionswi
 ssenschaft/aktuelles-rw/termine-rw/saekularisierung-in-der-islamischen-rep
 ublik-aktuelle-religioese-entwicklungen-im-iran\n
LAST-MODIFIED:20231110T125923Z
LOCATION:Seminarraum 201 (+2/0010) im Seminargebäude Pilgrimstein 12
URL:https://www.uni-marburg.de/de/fb03/ivk/fachgebiete/religionswissenscha
 ft/aktuelles-rw/termine-rw/saekularisierung-in-der-islamischen-republik-ak
 tuelle-religioese-entwicklungen-im-iran
END:VEVENT
BEGIN:VTIMEZONE
TZID:Europe/Berlin
X-LIC-LOCATION:Europe/Berlin
BEGIN:STANDARD
DTSTART:20231029T020000
TZNAME:CET
TZOFFSETFROM:+0200
TZOFFSETTO:+0100
END:STANDARD
END:VTIMEZONE
END:VCALENDAR
