BEGIN:VCALENDAR
VERSION:2.0
PRODID:-//Plone.org//NONSGML plone.app.event//EN
X-WR-TIMEZONE:Europe/Berlin
BEGIN:VEVENT
SUMMARY:Chibchan Cosmo-ecologies: Rethinking the Concepts of Unity and Div
 ersity in the Isthmo-Colombian Area
DTSTART;TZID=Europe/Berlin:20230516T180000
DTEND;TZID=Europe/Berlin:20230516T200000
DTSTAMP:20260426T053118Z
UID:8d9596aea05f446aa62e68afd3708d02@www.uni-marburg.de
CREATED:20230509T115508Z
DESCRIPTION:https://www.uni-marburg.de/de/fb03/ivk/fachgebiete/sozial-und-
 kulturanthropologie/aktuelles/termine/chibchan-cosmo-ecologies-rethinking-
 the-concepts-of-unity-and-diversity-in-the-isthmo-colombian-area\n
LAST-MODIFIED:20230509T115728Z
LOCATION:Raum +1/1090 in der Deutschhausstraße 3
URL:https://www.uni-marburg.de/de/fb03/ivk/fachgebiete/sozial-und-kulturan
 thropologie/aktuelles/termine/chibchan-cosmo-ecologies-rethinking-the-conc
 epts-of-unity-and-diversity-in-the-isthmo-colombian-area
END:VEVENT
BEGIN:VTIMEZONE
TZID:Europe/Berlin
X-LIC-LOCATION:Europe/Berlin
BEGIN:DAYLIGHT
DTSTART:20230326T030000
TZNAME:CEST
TZOFFSETFROM:+0100
TZOFFSETTO:+0200
END:DAYLIGHT
END:VTIMEZONE
END:VCALENDAR
