BEGIN:VCALENDAR
VERSION:2.0
PRODID:-//Plone.org//NONSGML plone.app.event//EN
X-WR-TIMEZONE:Europe/Berlin
BEGIN:VEVENT
SUMMARY:Deprovincializing ‘Security at the Margins’
DTSTART;TZID=Europe/Berlin:20210708T181500
DTEND;TZID=Europe/Berlin:20210708T194500
DTSTAMP:20260425T131654Z
UID:08b1465a08e5430ea9f3c15c0a62070d@www.uni-marburg.de
ATTENDEE;CN="Prof. Dr. Thomas G. Kirsch";ROLE=REQ-PARTICIPANT:Prof. Dr. Th
 omas G. Kirsch
ATTENDEE;CN="Chair of Social and Cultural Anthropology";ROLE=REQ-PARTICIPA
 NT:Chair of Social and Cultural Anthropology
ATTENDEE;CN="University of Konstanz";ROLE=REQ-PARTICIPANT:University of Ko
 nstanz
CREATED:20210412T175902Z
DESCRIPTION:https://www.uni-marburg.de/de/fb03/ivk/fachgebiete/sozial-und-
 kulturanthropologie/aktuelles/termine/deprovincializing-security-at-the-ma
 rgins2019\nLecture within the series "Marburg AnthroLab" organized by the 
 Department of Social and Cultural Anthropology. The series offers a venue 
 for sharing information about current projects\, field experiences\, and r
 esearch findings with colleagues\, students\, and the general public and i
 s designed to be a laboratory for the exchange of creative\, innovative\, 
 but also critical ideas and a space for lively discussions.
LAST-MODIFIED:20210414T124159Z
LOCATION:TBA on uni-marburg.de/de/fb03/ksa
URL:https://www.uni-marburg.de/de/fb03/ivk/fachgebiete/sozial-und-kulturan
 thropologie/aktuelles/termine/deprovincializing-security-at-the-margins201
 9
END:VEVENT
BEGIN:VTIMEZONE
TZID:Europe/Berlin
X-LIC-LOCATION:Europe/Berlin
BEGIN:DAYLIGHT
DTSTART:20210328T030000
TZNAME:CEST
TZOFFSETFROM:+0100
TZOFFSETTO:+0200
END:DAYLIGHT
END:VTIMEZONE
END:VCALENDAR
