BEGIN:VCALENDAR
VERSION:2.0
PRODID:-//Plone.org//NONSGML plone.app.event//EN
X-WR-TIMEZONE:Europe/Berlin
BEGIN:VEVENT
SUMMARY:"Dey looks to me laik dey were barberians"
DTSTART;TZID=Europe/Berlin:20190509T181500
DTEND;TZID=Europe/Berlin:20190509T191500
DTSTAMP:20260425T225846Z
UID:eb9cefcba3464dab92261d7868632344@www.uni-marburg.de
ATTENDEE;CN="Prof. Dr. Wolfgang Gabbert, Institut für Soziologie, Leibniz
  Universität Hannover";ROLE=REQ-PARTICIPANT:Prof. Dr. Wolfgang Gabbert, I
 nstitut für Soziologie, Leibniz Universität Hannover
CREATED:20190401T115545Z
DESCRIPTION:https://www.uni-marburg.de/de/fb03/ivk/fachgebiete/sozial-und-
 kulturanthropologie/aktuelles/termine/dey_looks_to_me_laik\nVortrag im Rah
 men des Anthrolabs
LAST-MODIFIED:20190403T110738Z
LOCATION:Hör-/Lehrsaal 109 (+1/1090) in der Deutschhausstrasse 3
URL:https://www.uni-marburg.de/de/fb03/ivk/fachgebiete/sozial-und-kulturan
 thropologie/aktuelles/termine/dey_looks_to_me_laik
END:VEVENT
BEGIN:VTIMEZONE
TZID:Europe/Berlin
X-LIC-LOCATION:Europe/Berlin
BEGIN:DAYLIGHT
DTSTART:20190331T030000
TZNAME:CEST
TZOFFSETFROM:+0100
TZOFFSETTO:+0200
END:DAYLIGHT
END:VTIMEZONE
END:VCALENDAR
