BEGIN:VCALENDAR
VERSION:2.0
PRODID:-//Plone.org//NONSGML plone.app.event//EN
X-WR-TIMEZONE:Europe/Berlin
BEGIN:VEVENT
SUMMARY:Einladung zur KSA Weihnachtsfeier
DTSTART;TZID=Europe/Berlin:20201216T190000
DTSTAMP:20260426T051950Z
UID:1eab66f04ef24e2484df794f450cc09b@www.uni-marburg.de
CREATED:20201207T101404Z
DESCRIPTION:https://www.uni-marburg.de/de/fb03/ivk/fachgebiete/sozial-und-
 kulturanthropologie/aktuelles/termine/einladung-zur-ksa-weihnachtsfeier\n
LAST-MODIFIED:20201207T101455Z
LOCATION:Big Blue Button
URL:https://www.uni-marburg.de/de/fb03/ivk/fachgebiete/sozial-und-kulturan
 thropologie/aktuelles/termine/einladung-zur-ksa-weihnachtsfeier
END:VEVENT
BEGIN:VTIMEZONE
TZID:Europe/Berlin
X-LIC-LOCATION:Europe/Berlin
BEGIN:STANDARD
DTSTART:20201025T020000
TZNAME:CET
TZOFFSETFROM:+0200
TZOFFSETTO:+0100
END:STANDARD
END:VTIMEZONE
END:VCALENDAR
