BEGIN:VCALENDAR
VERSION:2.0
PRODID:-//Plone.org//NONSGML plone.app.event//EN
X-WR-TIMEZONE:Europe/Berlin
BEGIN:VEVENT
SUMMARY:Die Karibik zwischen Insularität\, Multirelationalität und Black
  Atlantic Karibische Literaturen und ihre transregionalen Verbindungen
DTSTART;TZID=Europe/Berlin:20190704T181500
DTEND;TZID=Europe/Berlin:20190704T191500
DTSTAMP:20260426T002443Z
UID:08c8cd3fb062407ba3dcf84325401767@www.uni-marburg.de
ATTENDEE;CN="Prof. Dr. Anja Bandau, Romanisches Seminar, Leibniz Universit
 ät Hannover";ROLE=REQ-PARTICIPANT:Prof. Dr. Anja Bandau, Romanisches Semi
 nar, Leibniz Universität Hannover
CREATED:20190401T115545Z
DESCRIPTION:https://www.uni-marburg.de/de/fb03/ivk/fachgebiete/sozial-und-
 kulturanthropologie/aktuelles/termine/karibik_insularitaet_multirelational
 itaet\nVortrag im Rahmen des Anthrolabs
LAST-MODIFIED:20190403T110801Z
LOCATION:Hör-/Lehrsaal 109 (+1/1090) in der Deutschhausstrasse 3
URL:https://www.uni-marburg.de/de/fb03/ivk/fachgebiete/sozial-und-kulturan
 thropologie/aktuelles/termine/karibik_insularitaet_multirelationalitaet
END:VEVENT
BEGIN:VTIMEZONE
TZID:Europe/Berlin
X-LIC-LOCATION:Europe/Berlin
BEGIN:DAYLIGHT
DTSTART:20190331T030000
TZNAME:CEST
TZOFFSETFROM:+0100
TZOFFSETTO:+0200
END:DAYLIGHT
END:VTIMEZONE
END:VCALENDAR
