BEGIN:VCALENDAR
VERSION:2.0
PRODID:-//Plone.org//NONSGML plone.app.event//EN
X-WR-TIMEZONE:Europe/Berlin
BEGIN:VEVENT
SUMMARY:New Approaches to Indigenous Graphic Communication in the Americas
DTSTART;TZID=Europe/Berlin:20240215T100000
DTEND;TZID=Europe/Berlin:20240216T180000
DTSTAMP:20260426T034550Z
UID:08266b1392be4c61b77d3c9c5a6bc685@www.uni-marburg.de
CREATED:20240206T110051Z
DESCRIPTION:https://www.uni-marburg.de/de/fb03/ivk/fachgebiete/sozial-und-
 kulturanthropologie/aktuelles/termine/new-approaches-to-indigenous-graphic
 -communication-in-the-americas\n
LAST-MODIFIED:20240206T111804Z
LOCATION:Sprachatlas (Pilgrimstein 16\, lecture room 001)
URL:https://www.uni-marburg.de/de/fb03/ivk/fachgebiete/sozial-und-kulturan
 thropologie/aktuelles/termine/new-approaches-to-indigenous-graphic-communi
 cation-in-the-americas
END:VEVENT
BEGIN:VTIMEZONE
TZID:Europe/Berlin
X-LIC-LOCATION:Europe/Berlin
BEGIN:STANDARD
DTSTART:20231029T020000
TZNAME:CET
TZOFFSETFROM:+0200
TZOFFSETTO:+0100
END:STANDARD
END:VTIMEZONE
END:VCALENDAR
