BEGIN:VCALENDAR
VERSION:2.0
PRODID:-//Plone.org//NONSGML plone.app.event//EN
X-WR-TIMEZONE:Europe/Berlin
BEGIN:VEVENT
SUMMARY:Security and Moral (B}Orders:  Towards a Moral Anthropology of Sec
 urity
DTSTART;TZID=Europe/Berlin:20191107T180000
DTEND;TZID=Europe/Berlin:20191107T200000
DTSTAMP:20260425T235355Z
UID:9301e12fb8014736b4d47ffb35c0ba88@www.uni-marburg.de
CREATED:20190926T075213Z
DESCRIPTION:https://www.uni-marburg.de/de/fb03/ivk/fachgebiete/sozial-und-
 kulturanthropologie/aktuelles/termine/security-and-moral-b-orders-towards-
 a-moral-anthropology-of-security\nVortrag im Rahmen des Anthrolabs
LAST-MODIFIED:20191030T140937Z
LOCATION:Hör-/Lehrsaal 109 (+1/1090) in der Deutschhausstrasse 3
URL:https://www.uni-marburg.de/de/fb03/ivk/fachgebiete/sozial-und-kulturan
 thropologie/aktuelles/termine/security-and-moral-b-orders-towards-a-moral-
 anthropology-of-security
END:VEVENT
BEGIN:VTIMEZONE
TZID:Europe/Berlin
X-LIC-LOCATION:Europe/Berlin
BEGIN:STANDARD
DTSTART:20191027T020000
TZNAME:CET
TZOFFSETFROM:+0200
TZOFFSETTO:+0100
END:STANDARD
END:VTIMEZONE
END:VCALENDAR
