BEGIN:VCALENDAR
VERSION:2.0
PRODID:-//Plone.org//NONSGML plone.app.event//EN
X-WR-TIMEZONE:Europe/Berlin
BEGIN:VEVENT
SUMMARY:Klimawandel-Projekte in Vanuatu: Rezeption oder (Ko-)Produktion vo
 n Praxis?
DTSTART;TZID=Europe/Berlin:20181115T181500
DTEND;TZID=Europe/Berlin:20181115T200000
DTSTAMP:20260425T054447Z
UID:09769d7061bb496399661e5f0fef5856@www.uni-marburg.de
ATTENDEE;CN="Dr. Arno Pascht";ROLE=REQ-PARTICIPANT:Dr. Arno Pascht
ATTENDEE;CN="Institut für Ethnologie, Ludwig-Maximilians-Universität Mü
 nchen ";ROLE=REQ-PARTICIPANT:Institut für Ethnologie, Ludwig-Maximilians-
 Universität München 
CREATED:20181004T153606Z
DESCRIPTION:https://www.uni-marburg.de/de/fb03/ivk/fachgebiete/sozial-und-
 kulturanthropologie/aktuelles/termine/vanuatu\nDas Marburger AnthroLab ist
  eine Vortrags- und Diskussionsreihe des Fachgebiets Kultur- und Sozialant
 hropologie und ein Laboratorium für kreativen\, innovativen wie auch krit
 ischen Gedankenaustausch. Dieses Wintersemester widmet sich die Reihe dem 
 Thema Klimawandel.
LAST-MODIFIED:20181112T083209Z
LOCATION:Fachgebiet Kultur- und Sozialanthropologie\, Deutschhausstr. 3\, 
 Hörsaal 1. OG
URL:https://www.uni-marburg.de/de/fb03/ivk/fachgebiete/sozial-und-kulturan
 thropologie/aktuelles/termine/vanuatu
END:VEVENT
BEGIN:VTIMEZONE
TZID:Europe/Berlin
X-LIC-LOCATION:Europe/Berlin
BEGIN:STANDARD
DTSTART:20181028T020000
TZNAME:CET
TZOFFSETFROM:+0200
TZOFFSETTO:+0100
END:STANDARD
END:VTIMEZONE
END:VCALENDAR
