BEGIN:VCALENDAR
VERSION:2.0
PRODID:-//Plone.org//NONSGML plone.app.event//EN
X-WR-TIMEZONE:Europe/Berlin
BEGIN:VEVENT
SUMMARY:“We Are All Security Now”:  Thoughts on a Critical Anthropolog
 y of Security
DTSTART;TZID=Europe/Berlin:20210610T181500
DTEND;TZID=Europe/Berlin:20210610T194500
DTSTAMP:20260425T185957Z
UID:8e72a2ccb0f3496e84886e808353dc67@www.uni-marburg.de
ATTENDEE;CN="Dr. Jennifer Burrell";ROLE=REQ-PARTICIPANT:Dr. Jennifer Burre
 ll
ATTENDEE;CN="Department of Anthropology";ROLE=REQ-PARTICIPANT:Department o
 f Anthropology
ATTENDEE;CN="University at Albany";ROLE=REQ-PARTICIPANT:University at Alba
 ny
CREATED:20210412T174410Z
DESCRIPTION:https://www.uni-marburg.de/de/fb03/ivk/fachgebiete/sozial-und-
 kulturanthropologie/aktuelles/termine/we-are-all-security-now201d-thoughts
 -on-a-critical-anthropology-of-security\nLecture within the series "Marbur
 g AnthroLab" organized by the Department of Social and Cultural Anthropolo
 gy. The series offers a venue for sharing information about current projec
 ts\, field experiences\, and research findings with colleagues\, students\
 , and the general public and is designed to be a laboratory for the exchan
 ge of creative\, innovative\, but also critical ideas and a space for live
 ly discussions.
LAST-MODIFIED:20210414T123826Z
LOCATION:TBA on uni-marburg.de/de/fb03/ksa
URL:https://www.uni-marburg.de/de/fb03/ivk/fachgebiete/sozial-und-kulturan
 thropologie/aktuelles/termine/we-are-all-security-now201d-thoughts-on-a-cr
 itical-anthropology-of-security
END:VEVENT
BEGIN:VTIMEZONE
TZID:Europe/Berlin
X-LIC-LOCATION:Europe/Berlin
BEGIN:DAYLIGHT
DTSTART:20210328T030000
TZNAME:CEST
TZOFFSETFROM:+0100
TZOFFSETTO:+0200
END:DAYLIGHT
END:VTIMEZONE
END:VCALENDAR
