BEGIN:VCALENDAR
VERSION:2.0
PRODID:-//Plone.org//NONSGML plone.app.event//EN
X-WR-TIMEZONE:Europe/Berlin
BEGIN:VEVENT
SUMMARY:Von Klimawandel und Orakelwesen: Ein globales Umweltproblem im Kon
 text divergierender Weltauffassungen
DTSTART;TZID=Europe/Berlin:20181025T181500
DTEND;TZID=Europe/Berlin:20181025T200000
DTSTAMP:20260425T215439Z
UID:baa1581611d94480836afa7b76cb7528@www.uni-marburg.de
ATTENDEE;CN="Dr. Lioba Rossbach de Olmos";ROLE=REQ-PARTICIPANT:Dr. Lioba R
 ossbach de Olmos
CREATED:20181004T101244Z
DESCRIPTION:https://www.uni-marburg.de/de/fb03/ivk/fachgebiete/sozial-und-
 kulturanthropologie/aktuelles/termine/weltauffassungen\n
LAST-MODIFIED:20210408T141940Z
LOCATION:Fachgebiet Kultur- und sozialanthropologie\, Deutschhausstr. 3\, 
 Hörsaal 1. OG
URL:https://www.uni-marburg.de/de/fb03/ivk/fachgebiete/sozial-und-kulturan
 thropologie/aktuelles/termine/weltauffassungen
END:VEVENT
BEGIN:VTIMEZONE
TZID:Europe/Berlin
X-LIC-LOCATION:Europe/Berlin
BEGIN:DAYLIGHT
DTSTART:20180325T030000
TZNAME:CEST
TZOFFSETFROM:+0100
TZOFFSETTO:+0200
END:DAYLIGHT
END:VTIMEZONE
END:VCALENDAR
