BEGIN:VCALENDAR
VERSION:2.0
PRODID:-//Plone.org//NONSGML plone.app.event//EN
X-WR-TIMEZONE:Europe/Berlin
BEGIN:VEVENT
SUMMARY:NSU\, Pegida\, Chemnitz... Ethnologische und Religionswissenschaft
 liche Blicke auf Fremdenfeindlichkeit in Deutschland
DTSTART;TZID=Europe/Berlin:20181119T100000
DTEND;TZID=Europe/Berlin:20181119T160000
DTSTAMP:20260424T203748Z
UID:e41516b093f74a17a30f1bd3e76d2b5d@www.uni-marburg.de
CREATED:20181029T171501Z
DESCRIPTION:https://www.uni-marburg.de/de/fb03/ivk/fachgebiete/sozial-und-
 kulturanthropologie/aktuelles/termine/workshopfremdenfeindlichkeit\n
LAST-MODIFIED:20181030T144946Z
LOCATION:Deutschhausstr. 3
URL:https://www.uni-marburg.de/de/fb03/ivk/fachgebiete/sozial-und-kulturan
 thropologie/aktuelles/termine/workshopfremdenfeindlichkeit
END:VEVENT
BEGIN:VTIMEZONE
TZID:Europe/Berlin
X-LIC-LOCATION:Europe/Berlin
BEGIN:STANDARD
DTSTART:20181028T020000
TZNAME:CET
TZOFFSETFROM:+0200
TZOFFSETTO:+0100
END:STANDARD
END:VTIMEZONE
END:VCALENDAR
