BEGIN:VCALENDAR
VERSION:2.0
PRODID:-//Plone.org//NONSGML plone.app.event//EN
X-WR-TIMEZONE:Europe/Berlin
BEGIN:VEVENT
SUMMARY:Podiumsdiskussion: Methoden der Philosophie und die Rolle der Subj
 ektivität
DTSTART;TZID=Europe/Berlin:20221101T161500
DTSTAMP:20260425T220652Z
UID:3722160af38d417a9f22b39cbeb6f33a@www.uni-marburg.de
CREATED:20221026T110031Z
DESCRIPTION:https://www.uni-marburg.de/de/fb03/philosophie/aktuelles/termi
 ne-veranstaltungen/podiumsdiskussion-methoden-der-philosophie-und-die-roll
 e-der-subjektivitaet\n
LAST-MODIFIED:20221026T110116Z
LOCATION:Wilhelm-Röpke-Str. 6\, Raum G00037
URL:https://www.uni-marburg.de/de/fb03/philosophie/aktuelles/termine-veran
 staltungen/podiumsdiskussion-methoden-der-philosophie-und-die-rolle-der-su
 bjektivitaet
END:VEVENT
BEGIN:VTIMEZONE
TZID:Europe/Berlin
X-LIC-LOCATION:Europe/Berlin
BEGIN:STANDARD
DTSTART:20221030T020000
TZNAME:CET
TZOFFSETFROM:+0200
TZOFFSETTO:+0100
END:STANDARD
END:VTIMEZONE
END:VCALENDAR
