BEGIN:VCALENDAR
VERSION:2.0
PRODID:-//Plone.org//NONSGML plone.app.event//EN
X-WR-TIMEZONE:Europe/Berlin
BEGIN:VEVENT
SUMMARY:Vortrag "Grenzen der Kontrolle" Dr. Philipp Schmidt-Boddy (Heidelb
 erg)
DTSTART;TZID=Europe/Berlin:20260512T094500
DTEND;TZID=Europe/Berlin:20260512T124500
DTSTAMP:20260424T135040Z
UID:28caf651b21649c19617842a16b2aa06@www.uni-marburg.de
CATEGORIES:()
CREATED:20260421T232517Z
DESCRIPTION:https://www.uni-marburg.de/de/fb03/philosophie/aktuelles/termi
 ne-veranstaltungen/vortrag-manipulation-dr-philipp-schmidt-boddy-heidelber
 g-1\n
LAST-MODIFIED:20260422T135050Z
LOCATION:03B07
URL:https://www.uni-marburg.de/de/fb03/philosophie/aktuelles/termine-veran
 staltungen/vortrag-manipulation-dr-philipp-schmidt-boddy-heidelberg-1
END:VEVENT
BEGIN:VTIMEZONE
TZID:Europe/Berlin
X-LIC-LOCATION:Europe/Berlin
BEGIN:DAYLIGHT
DTSTART:20260329T030000
TZNAME:CEST
TZOFFSETFROM:+0100
TZOFFSETTO:+0200
END:DAYLIGHT
END:VTIMEZONE
END:VCALENDAR
