BEGIN:VCALENDAR
VERSION:2.0
PRODID:-//Plone.org//NONSGML plone.app.event//EN
X-WR-TIMEZONE:Europe/Berlin
BEGIN:VEVENT
SUMMARY:FB Kolloq SoSe2026: Matteo Valsecchi
DTSTART;TZID=Europe/Berlin:20260520T161500
DTEND;TZID=Europe/Berlin:20260520T171500
DTSTAMP:20260423T112930Z
UID:16a6f5e5752446dbb4962928276f0f32@www.uni-marburg.de
ATTENDEE;CN="Prof. Dr. Matteo Valsecchi";ROLE=REQ-PARTICIPANT:Prof. Dr. Ma
 tteo Valsecchi
CATEGORIES:()
CREATED:20260422T095706Z
DESCRIPTION:https://www.uni-marburg.de/de/fb04/aktuelles/termine/fb-kolloq
 -sose202-matteo-valsecchi\n„Learning to resist distraction in visual sea
 rch”
LAST-MODIFIED:20260422T104713Z
LOCATION:Gutenbergstr.18\, Dekanatssaal
URL:https://www.uni-marburg.de/de/fb04/aktuelles/termine/fb-kolloq-sose202
 -matteo-valsecchi
END:VEVENT
BEGIN:VTIMEZONE
TZID:Europe/Berlin
X-LIC-LOCATION:Europe/Berlin
BEGIN:DAYLIGHT
DTSTART:20260329T030000
TZNAME:CEST
TZOFFSETFROM:+0100
TZOFFSETTO:+0200
END:DAYLIGHT
END:VTIMEZONE
END:VCALENDAR
