BEGIN:VCALENDAR
VERSION:2.0
PRODID:-//Plone.org//NONSGML plone.app.event//EN
X-WR-TIMEZONE:Europe/Berlin
BEGIN:VEVENT
SUMMARY:FB Kolloq SoSe2026: Aileen Oeberst
DTSTART;TZID=Europe/Berlin:20260708T161500
DTEND;TZID=Europe/Berlin:20260708T171500
DTSTAMP:20260423T112928Z
UID:a9a8f21da94743db9bd0a406160fb0d7@www.uni-marburg.de
ATTENDEE;CN="Prof. Dr. Aileen Oeberst";ROLE=REQ-PARTICIPANT:Prof. Dr. Aile
 en Oeberst
CREATED:20260422T103316Z
DESCRIPTION:https://www.uni-marburg.de/de/fb04/aktuelles/termine/fb-kolloq
 -sose2026-aileen-oeberst\n„Mind the gap: Forschung und Wirklichkeit”
LAST-MODIFIED:20260422T103736Z
LOCATION:Gutenbergstr.18\, Dekanatssaal
URL:https://www.uni-marburg.de/de/fb04/aktuelles/termine/fb-kolloq-sose202
 6-aileen-oeberst
END:VEVENT
BEGIN:VTIMEZONE
TZID:Europe/Berlin
X-LIC-LOCATION:Europe/Berlin
BEGIN:DAYLIGHT
DTSTART:20260329T030000
TZNAME:CEST
TZOFFSETFROM:+0100
TZOFFSETTO:+0200
END:DAYLIGHT
END:VTIMEZONE
END:VCALENDAR
