BEGIN:VCALENDAR
VERSION:2.0
PRODID:-//Plone.org//NONSGML plone.app.event//EN
X-WR-TIMEZONE:Europe/Berlin
BEGIN:VEVENT
SUMMARY:FB Kolloq SoSe2026: Dirk Wulff
DTSTART;TZID=Europe/Berlin:20260701T161500
DTEND;TZID=Europe/Berlin:20260701T171500
DTSTAMP:20260423T112929Z
UID:7b2b6c72f22e4de3affedfb93480b7b9@www.uni-marburg.de
ATTENDEE;CN="Dr. Dirk Wulff";ROLE=REQ-PARTICIPANT:Dr. Dirk Wulff
CREATED:20260422T100704Z
DESCRIPTION:https://www.uni-marburg.de/de/fb04/aktuelles/termine/fb-kolloq
 -sose2026-dirk-wulff\n„Addressing Longstanding Challenges in Cognitive S
 cience with Language Models”
LAST-MODIFIED:20260422T103735Z
LOCATION:Gutenbergstr.18\, Dekanatssaal
URL:https://www.uni-marburg.de/de/fb04/aktuelles/termine/fb-kolloq-sose202
 6-dirk-wulff
END:VEVENT
BEGIN:VTIMEZONE
TZID:Europe/Berlin
X-LIC-LOCATION:Europe/Berlin
BEGIN:DAYLIGHT
DTSTART:20260329T030000
TZNAME:CEST
TZOFFSETFROM:+0100
TZOFFSETTO:+0200
END:DAYLIGHT
END:VTIMEZONE
END:VCALENDAR
