BEGIN:VCALENDAR
VERSION:2.0
PRODID:-//Plone.org//NONSGML plone.app.event//EN
X-WR-TIMEZONE:Europe/Berlin
BEGIN:VEVENT
SUMMARY:FB Kolloq SoSe2026: Klaus Rothermund
DTSTART;TZID=Europe/Berlin:20260715T161500
DTEND;TZID=Europe/Berlin:20260715T171500
DTSTAMP:20260424T071848Z
UID:37d2dbf987d04b0c9f3c10ba788e6138@www.uni-marburg.de
ATTENDEE;CN="Prof. Dr. Klaus Rothermund";ROLE=REQ-PARTICIPANT:Prof. Dr. Kl
 aus Rothermund
CREATED:20260422T103640Z
DESCRIPTION:https://www.uni-marburg.de/de/fb04/aktuelles/termine/fb-kolloq
 -sose2026-klaus-rothermund\n„ Should episodic binding/retrieval processe
 s be considered as a source of learning?”
LAST-MODIFIED:20260422T103735Z
LOCATION:Gutenbergstr.18\, Dekanatssaal
URL:https://www.uni-marburg.de/de/fb04/aktuelles/termine/fb-kolloq-sose202
 6-klaus-rothermund
END:VEVENT
BEGIN:VTIMEZONE
TZID:Europe/Berlin
X-LIC-LOCATION:Europe/Berlin
BEGIN:DAYLIGHT
DTSTART:20260329T030000
TZNAME:CEST
TZOFFSETFROM:+0100
TZOFFSETTO:+0200
END:DAYLIGHT
END:VTIMEZONE
END:VCALENDAR
