BEGIN:VCALENDAR
VERSION:2.0
PRODID:-//Plone.org//NONSGML plone.app.event//EN
X-WR-TIMEZONE:Europe/Berlin
BEGIN:VEVENT
SUMMARY:FB Kolloq SoSe2026: Slieman Halabi
DTSTART;TZID=Europe/Berlin:20260617T161500
DTEND;TZID=Europe/Berlin:20260617T171500
DTSTAMP:20260423T112924Z
UID:925f5312eec0496ca1cb559c42c38f6f@www.uni-marburg.de
ATTENDEE;CN="Dr. Slieman Halabi";ROLE=REQ-PARTICIPANT:Dr. Slieman Halabi
CREATED:20260422T100339Z
DESCRIPTION:https://www.uni-marburg.de/de/fb04/aktuelles/termine/fb-kolloq
 -sose2026-slieman-halabi\n„Negotiating Homeland Conflict Abroad: Identit
 y Responsibility and Power in Israeli–Palestinian Diaspora Dialogue”
LAST-MODIFIED:20260422T103736Z
LOCATION:Gutenbergstr.18\, Dekanatssaal
URL:https://www.uni-marburg.de/de/fb04/aktuelles/termine/fb-kolloq-sose202
 6-slieman-halabi
END:VEVENT
BEGIN:VTIMEZONE
TZID:Europe/Berlin
X-LIC-LOCATION:Europe/Berlin
BEGIN:DAYLIGHT
DTSTART:20260329T030000
TZNAME:CEST
TZOFFSETFROM:+0100
TZOFFSETTO:+0200
END:DAYLIGHT
END:VTIMEZONE
END:VCALENDAR
