BEGIN:VCALENDAR
VERSION:2.0
PRODID:-//Plone.org//NONSGML plone.app.event//EN
X-WR-TIMEZONE:Europe/Berlin
BEGIN:VEVENT
SUMMARY:Lectio Philippina: Sexualisierte Gewalt in der ev. Kirche
DTSTART;TZID=Europe/Berlin:20240515T201500
DTSTAMP:20260420T112640Z
UID:c5f05d5867a140f8ae522eaa9197c1ba@www.uni-marburg.de
ATTENDEE;CN="Prof. Dr. Beate Hofmann";ROLE=REQ-PARTICIPANT:Prof. Dr. Beate
  Hofmann
ATTENDEE;CN="Bischöfin der EKKW";ROLE=REQ-PARTICIPANT:Bischöfin der EKKW
CREATED:20240514T071224Z
DESCRIPTION:https://www.uni-marburg.de/de/fb05/aktuelles/termine/lectio-ph
 ilippina-sexualisierte-gewalt-in-der-ev-kirche\nPrävention und Aufarbeitu
 ng – Vortrag und Diskussion zu den Ergebnissen der ForuM-Studie
LAST-MODIFIED:20240514T072620Z
LOCATION:Philipps-Universität Marburg\, Alte Aula
URL:https://www.uni-marburg.de/de/fb05/aktuelles/termine/lectio-philippina
 -sexualisierte-gewalt-in-der-ev-kirche
END:VEVENT
BEGIN:VTIMEZONE
TZID:Europe/Berlin
X-LIC-LOCATION:Europe/Berlin
BEGIN:DAYLIGHT
DTSTART:20240331T030000
TZNAME:CEST
TZOFFSETFROM:+0100
TZOFFSETTO:+0200
END:DAYLIGHT
END:VTIMEZONE
END:VCALENDAR
