BEGIN:VCALENDAR
VERSION:2.0
PRODID:-//Plone.org//NONSGML plone.app.event//EN
X-WR-TIMEZONE:Europe/Berlin
BEGIN:VEVENT
SUMMARY:Semestereröffnung Sommersemester 2026
DTSTART;TZID=Europe/Berlin:20260413T101500
DTSTAMP:20260420T071440Z
UID:8b09882c6c3b44679795cf9c376d00da@www.uni-marburg.de
ATTENDEE;CN="Prof. Dr. Karl Pinggéra";ROLE=REQ-PARTICIPANT:Prof. Dr. Karl
  Pinggéra
ATTENDEE;CN="Prof. Dr. Lukas Bormann";ROLE=REQ-PARTICIPANT:Prof. Dr. Lukas
  Bormann
CATEGORIES:()
CREATED:20240313T095622Z
DESCRIPTION:https://www.uni-marburg.de/de/fb05/aktuelles/termine/semestere
 roeffnung-sommersemester-2026\n
LAST-MODIFIED:20260312T110753Z
LOCATION:Universitätskirche
URL:https://www.uni-marburg.de/de/fb05/aktuelles/termine/semestereroeffnun
 g-sommersemester-2026
END:VEVENT
BEGIN:VTIMEZONE
TZID:Europe/Berlin
X-LIC-LOCATION:Europe/Berlin
BEGIN:DAYLIGHT
DTSTART:20260329T030000
TZNAME:CEST
TZOFFSETFROM:+0100
TZOFFSETTO:+0200
END:DAYLIGHT
END:VTIMEZONE
END:VCALENDAR
