BEGIN:VCALENDAR
VERSION:2.0
PRODID:-//Plone.org//NONSGML plone.app.event//EN
X-WR-TIMEZONE:Europe/Berlin
BEGIN:VEVENT
SUMMARY:Devianz und Normalität: Diagnostische und hermeneutische Perspekt
 iven auf abweichendes Verhalten im Alten Orient\, in der antiken Religions
 geschichte und in der Moderne.
DTSTART;VALUE=DATE:20191017
DTEND;VALUE=DATE:20191019
DTSTAMP:20260426T025628Z
UID:a8144b7e93a44ab4bee1471e50210a73@www.uni-marburg.de
CREATED:20190708T133716Z
DESCRIPTION:https://www.uni-marburg.de/de/fb05/fachgebiete/fachgebiete/neu
 es-testament/aktuelles-1/termine/devianz-und-normalitaet-diagnostische-und
 -hermeneutische-perspektiven-auf-abweichendes-verhalten-im-alten-orient-in
 -der-antiken-religionsgeschichte-und-in-der-moderne\nTagung
LAST-MODIFIED:20190708T133835Z
LOCATION:Alte Universität\, Lahntor 3\, Raum 01006
URL:https://www.uni-marburg.de/de/fb05/fachgebiete/fachgebiete/neues-testa
 ment/aktuelles-1/termine/devianz-und-normalitaet-diagnostische-und-hermene
 utische-perspektiven-auf-abweichendes-verhalten-im-alten-orient-in-der-ant
 iken-religionsgeschichte-und-in-der-moderne
END:VEVENT
END:VCALENDAR
