BEGIN:VCALENDAR
VERSION:2.0
PRODID:-//Plone.org//NONSGML plone.app.event//EN
X-WR-TIMEZONE:Europe/Berlin
BEGIN:VEVENT
SUMMARY:Alles in Ordnung? Wie Gesetz\, Gedanken und Gefühle das Leben (be
 )stimmen
DTSTART;TZID=Europe/Berlin:20221105T100000
DTEND;TZID=Europe/Berlin:20221105T163000
DTSTAMP:20260426T042048Z
UID:d7975f8d79a34aefa93df78a312020f3@www.uni-marburg.de
CREATED:20220929T074856Z
DESCRIPTION:https://www.uni-marburg.de/de/fb05/fachgebiete/institute-und-e
 inrichtungen/hans-von-soden-institut/aktuelles-1/termine/alles-in-ordnung-
 wie-gesetz-gedanken-und-gefuehle-das-leben-be-stimmen\nDigitale Tagung des
  Hans von soden Instituts
LAST-MODIFIED:20230920T081136Z
LOCATION:online
URL:https://www.uni-marburg.de/de/fb05/fachgebiete/institute-und-einrichtu
 ngen/hans-von-soden-institut/aktuelles-1/termine/alles-in-ordnung-wie-gese
 tz-gedanken-und-gefuehle-das-leben-be-stimmen
END:VEVENT
BEGIN:VTIMEZONE
TZID:Europe/Berlin
X-LIC-LOCATION:Europe/Berlin
BEGIN:STANDARD
DTSTART:20221030T020000
TZNAME:CET
TZOFFSETFROM:+0200
TZOFFSETTO:+0100
END:STANDARD
END:VTIMEZONE
END:VCALENDAR
