BEGIN:VCALENDAR
VERSION:2.0
PRODID:-//Plone.org//NONSGML plone.app.event//EN
X-WR-TIMEZONE:Europe/Berlin
BEGIN:VEVENT
SUMMARY:"Only human after all..."
DTSTART;TZID=Europe/Berlin:20240616T110000
DTEND;TZID=Europe/Berlin:20240616T120000
DTSTAMP:20260425T051257Z
UID:5ed8ff3bd7bc4240bc154376220a89e7@www.uni-marburg.de
ATTENDEE;CN="WM Sara Egger ";ROLE=REQ-PARTICIPANT:WM Sara Egger 
CREATED:20240417T154023Z
DESCRIPTION:https://www.uni-marburg.de/de/fb05/universitaetsgottesdienste/
 aktuelles/termine/unigottesdienste-sose-2024/only-human-after-all\nUnivers
 itätsgottesdienst mit WM Sara Egger
LAST-MODIFIED:20240417T154029Z
LOCATION:Universitätskirche
URL:https://www.uni-marburg.de/de/fb05/universitaetsgottesdienste/aktuelle
 s/termine/unigottesdienste-sose-2024/only-human-after-all
END:VEVENT
BEGIN:VTIMEZONE
TZID:Europe/Berlin
X-LIC-LOCATION:Europe/Berlin
BEGIN:DAYLIGHT
DTSTART:20240331T030000
TZNAME:CEST
TZOFFSETFROM:+0100
TZOFFSETTO:+0200
END:DAYLIGHT
END:VTIMEZONE
END:VCALENDAR
