BEGIN:VCALENDAR
VERSION:2.0
PRODID:-//Plone.org//NONSGML plone.app.event//EN
X-WR-TIMEZONE:Europe/Berlin
BEGIN:VEVENT
SUMMARY:Predigtgottesdienste im Wintersemester 2022/23
DTSTART;TZID=Europe/Berlin:20230205T110000
DTEND;TZID=Europe/Berlin:20230205T120000
DTSTAMP:20260426T042051Z
UID:c17e69be76364b0f83c3a49d0a72aaea@www.uni-marburg.de
ATTENDEE;CN="Prof. Dr. Karl Pinggéra, Prof. Dr. Notker Baumann";ROLE=REQ-
 PARTICIPANT:Prof. Dr. Karl Pinggéra, Prof. Dr. Notker Baumann
CREATED:20221014T074505Z
DESCRIPTION:https://www.uni-marburg.de/de/fb05/universitaetsgottesdienste/
 aktuelles/termine/universitaetsgottesdienste-wintersemester-2022-23/predig
 tgottesdienste-im-wintersemester-2022-23-5\n
LAST-MODIFIED:20221014T074509Z
LOCATION:Universitätskirche Marburg
URL:https://www.uni-marburg.de/de/fb05/universitaetsgottesdienste/aktuelle
 s/termine/universitaetsgottesdienste-wintersemester-2022-23/predigtgottesd
 ienste-im-wintersemester-2022-23-5
END:VEVENT
BEGIN:VTIMEZONE
TZID:Europe/Berlin
X-LIC-LOCATION:Europe/Berlin
BEGIN:STANDARD
DTSTART:20221030T020000
TZNAME:CET
TZOFFSETFROM:+0200
TZOFFSETTO:+0100
END:STANDARD
END:VTIMEZONE
END:VCALENDAR
