BEGIN:VCALENDAR
VERSION:2.0
PRODID:-//Plone.org//NONSGML plone.app.event//EN
X-WR-TIMEZONE:Europe/Berlin
BEGIN:VEVENT
SUMMARY:Baubefunde und Archivalien zur Weidenhäuser Brücke und zum Wehr 
 am Grün
DTSTART;TZID=Europe/Berlin:20190606T190000
DTSTAMP:20260425T132243Z
UID:1d1c3164f8744c5abf909cf5bbfe0723@www.uni-marburg.de
ATTENDEE;CN="Ulrich Klein M.A.";ROLE=REQ-PARTICIPANT:Ulrich Klein M.A.
CREATED:20190603T121453Z
DESCRIPTION:https://www.uni-marburg.de/de/fb06/aktuelles/termine/baubefund
 e-und-archivalien-zur-weidenhaeuser-bruecke-und-zum-wehr-am-gruen\n
LAST-MODIFIED:20190603T121659Z
LOCATION:Landgrafensaal des Staatsarchivs Marburg
URL:https://www.uni-marburg.de/de/fb06/aktuelles/termine/baubefunde-und-ar
 chivalien-zur-weidenhaeuser-bruecke-und-zum-wehr-am-gruen
END:VEVENT
BEGIN:VTIMEZONE
TZID:Europe/Berlin
X-LIC-LOCATION:Europe/Berlin
BEGIN:DAYLIGHT
DTSTART:20190331T030000
TZNAME:CEST
TZOFFSETFROM:+0100
TZOFFSETTO:+0200
END:DAYLIGHT
END:VTIMEZONE
END:VCALENDAR
