BEGIN:VCALENDAR
VERSION:2.0
PRODID:-//Plone.org//NONSGML plone.app.event//EN
X-WR-TIMEZONE:Europe/Berlin
BEGIN:VEVENT
SUMMARY:Book Launch: Sicherheit und Differenz in historischer Perspektive
DTSTART;TZID=Europe/Berlin:20220405T180000
DTEND;TZID=Europe/Berlin:20220405T190000
DTSTAMP:20260420T090454Z
UID:e45cbf50ccfb4eceba63bfe852801f2b@www.uni-marburg.de
ATTENDEE;CN="Moderation:";ROLE=REQ-PARTICIPANT:Moderation:
ATTENDEE;CN="Heidi Hein-Kircher (Herder-Institut, Marburg)";ROLE=REQ-PARTI
 CIPANT:Heidi Hein-Kircher (Herder-Institut, Marburg)
ATTENDEE;CN="Kommentare:";ROLE=REQ-PARTICIPANT:Kommentare:
ATTENDEE;CN="Isabel Heinemann (Universität Münster)";ROLE=REQ-PARTICIPAN
 T:Isabel Heinemann (Universität Münster)
ATTENDEE;CN="Andreas Langenohl (Justus-Liebig-Universität Gießen)";ROLE=
 REQ-PARTICIPANT:Andreas Langenohl (Justus-Liebig-Universität Gießen)
CREATED:20220325T153718Z
DESCRIPTION:https://www.uni-marburg.de/de/fb06/aktuelles/termine/book-laun
 ch-sicherheit-und-differenz-in-historischer-perspektive\n
LAST-MODIFIED:20220325T155838Z
LOCATION:digital
URL:https://www.uni-marburg.de/de/fb06/aktuelles/termine/book-launch-siche
 rheit-und-differenz-in-historischer-perspektive
END:VEVENT
BEGIN:VTIMEZONE
TZID:Europe/Berlin
X-LIC-LOCATION:Europe/Berlin
BEGIN:DAYLIGHT
DTSTART:20220327T030000
TZNAME:CEST
TZOFFSETFROM:+0100
TZOFFSETTO:+0200
END:DAYLIGHT
END:VTIMEZONE
END:VCALENDAR
