BEGIN:VCALENDAR
VERSION:2.0
PRODID:-//Plone.org//NONSGML plone.app.event//EN
X-WR-TIMEZONE:Europe/Berlin
BEGIN:VEVENT
SUMMARY:Buchpräsentation: Fürstliches Sammeln.
DTSTART;TZID=Europe/Berlin:20250605T180000
DTSTAMP:20260420T235148Z
UID:3cbdd065219d427f959ff8ea5193131d@www.uni-marburg.de
ATTENDEE;CN="Dr. Elisabeth Burk";ROLE=REQ-PARTICIPANT:Dr. Elisabeth Burk
CREATED:20250603T111455Z
DESCRIPTION:https://www.uni-marburg.de/de/fb06/aktuelles/termine/buchpraes
 entation-fuerstliches-sammeln\nDie Kunstsammlungen Landgraf Carls von Hess
 en-Kassel im europäischen Vergleich
LAST-MODIFIED:20250603T111507Z
LOCATION:Landgrafensaal des Staatsarchivs Marburg\, Friedrichsplatz 15
URL:https://www.uni-marburg.de/de/fb06/aktuelles/termine/buchpraesentation
 -fuerstliches-sammeln
END:VEVENT
BEGIN:VTIMEZONE
TZID:Europe/Berlin
X-LIC-LOCATION:Europe/Berlin
BEGIN:DAYLIGHT
DTSTART:20250330T030000
TZNAME:CEST
TZOFFSETFROM:+0100
TZOFFSETTO:+0200
END:DAYLIGHT
END:VTIMEZONE
END:VCALENDAR
