BEGIN:VCALENDAR
VERSION:2.0
PRODID:-//Plone.org//NONSGML plone.app.event//EN
X-WR-TIMEZONE:Europe/Berlin
BEGIN:VEVENT
SUMMARY:Bürger oder Bittsteller: Glaubenstreue Juden und ihre Ernährung 
 im Ersten Weltkrieg
DTSTART;TZID=Europe/Berlin:20230525T200000
DTSTAMP:20260421T105602Z
UID:a37043087dd845bcb66207ccf9e8933f@www.uni-marburg.de
ATTENDEE;CN="Prof. Dr. Niklot Klüßendorf";ROLE=REQ-PARTICIPANT:Prof. Dr.
  Niklot Klüßendorf
CREATED:20230522T064809Z
DESCRIPTION:https://www.uni-marburg.de/de/fb06/aktuelles/termine/buerger-o
 der-bittsteller-glaubenstreue-juden-und-ihre-ernaehrung-im-ersten-weltkrie
 g\nUnter diesem Titel widmet sich der Historiker Prof. Dr. Niklot Klüßen
 dorf in einem Vortrag in der Landsynagoge Roth einem bisher nicht beackert
 en Feld in der Geschichte des Ersten Weltkriegs und im Umgang der Mehrheit
  mit der jüdischen Minderheit.
LAST-MODIFIED:20230522T064837Z
LOCATION:Synagoge in Roth
URL:https://www.uni-marburg.de/de/fb06/aktuelles/termine/buerger-oder-bitt
 steller-glaubenstreue-juden-und-ihre-ernaehrung-im-ersten-weltkrieg
END:VEVENT
BEGIN:VTIMEZONE
TZID:Europe/Berlin
X-LIC-LOCATION:Europe/Berlin
BEGIN:DAYLIGHT
DTSTART:20230326T030000
TZNAME:CEST
TZOFFSETFROM:+0100
TZOFFSETTO:+0200
END:DAYLIGHT
END:VTIMEZONE
END:VCALENDAR
